BEGIN:VCALENDAR
VERSION:2.0
PRODID:
BEGIN:VEVENT
UID:138815mb
DTSTAMP:20260420T142823Z
DTSTART:20260622T190000Z
DTEND:20260622T200000Z
SUMMARY: Be the Sun\, Not the Salt\, featuring Harry Cohen & John Daly
DESCRIPTION: What if being nice\, or specifically being a positive best version of yourself\, made you a more effective leader?  Ethical leadership\, is effective leadership. That's what Dr. Cohen\, noted psychologist\, transformational speaker\, executive coach and author of Be The Sun\, Not The Salt\, has been teaching organizations to do for years. Dr. Cohen's work is based on scientific studies of human behavior broken down into simple\, easily digestible pillars structured around the Heliotropic Effect. In this webcast we will discuss Dr. Cohen's path to this work\, what the Heliotropic Effect is and how Be The Sun\, Not The Salt is the perfect reminder to Do More of That every day\n Note: This course qualifies to count toward the WICPA membership Ethics CPE requirement\n 
CLASS:PUBLIC
END:VEVENT
END:VCALENDAR
