BEGIN:VCALENDAR
VERSION:2.0
PRODID:
BEGIN:VEVENT
UID:138833mb
DTSTAMP:20260419T230540Z
DTSTART:20260523T180000Z
DTEND:20260523T190100Z
SUMMARY: Before You Let Them Go: A Whole Brain Approach to Helping Team Members With ADHD Thrive in Your Organization
DESCRIPTION: Many employees with ADHD struggle with productivity. It's heart-breaking to feel you have to let a team member go due to lack of performance. This course is for HR Professionals and Team Leaders who want more tools in their tool belt to help improve retention with ADHD team members. You will learn whole brain strategies to help your team members with ADHD improve performance\, so they can not only survive but thrive. This innovative science-based approach is designed to help people with ADHD get more done in less time with a process designed with their creative brain in mind\n 
CLASS:PUBLIC
END:VEVENT
END:VCALENDAR
