BEGIN:VCALENDAR
VERSION:2.0
PRODID:
BEGIN:VEVENT
UID:138877mb
DTSTAMP:20260420T083018Z
DTSTART:20260612T140000Z
DTEND:20260612T154700Z
SUMMARY: ProActive Response: Active Shooter Training: Recognize. Respond. Survive.
DESCRIPTION: ProActive Response Group's Active Shooter Response Training course educates participants in current trends of active shooter incidents\, how to recognize early warning signs of violence\, appropriate actions to increase chances of survival in an active shooter event and how to use basic medical equipment to save the lives of victims. 

*****(Warning: This video contains simulated graphic scenes that some viewers may find disturbing)*****\n  
CLASS:PUBLIC
END:VEVENT
END:VCALENDAR
