BEGIN:VCALENDAR
VERSION:2.0
PRODID:
BEGIN:VEVENT
UID:138893mb
DTSTAMP:20260420T142507Z
DTSTART:20260620T200000Z
DTEND:20260620T210700Z
SUMMARY: Safety Synergy: Uniting Elements for a Secure Workplace
DESCRIPTION: Creating a culture of safety in a workplace requires attention in many different areas. We will bring these areas into focus and provide attendees with information on how to make their individual workplaces safer for everyone\n 
CLASS:PUBLIC
END:VEVENT
END:VCALENDAR
