BEGIN:VCALENDAR
VERSION:2.0
PRODID:
BEGIN:VEVENT
UID:139004mb
DTSTAMP:20260420T021224Z
DTSTART:20260528T150000Z
DTEND:20260528T160000Z
SUMMARY: Thrive Amidst the Chaos: 3 Steps to Increase Your Energy & Learn to Dance in the Rain
DESCRIPTION: Are you running around with a fire extinguisher permanently strapped to your back? Do everyday crises run your life\, both at work and at home? Do you find yourself
consistently taking care of everyone else with no time left to take care of you?

In this session\, we dive into controlling your chaos and managing your energy. Make no mistake\, this isn't your father's time management class. It's an energy management class developed on behalf of and with tired\, frustrated and burned out HR professionals like yourselves! If you find yourself drained and drinking far too much coffee\, this is the session for you!\n  
CLASS:PUBLIC
END:VEVENT
END:VCALENDAR
