BEGIN:VCALENDAR
VERSION:2.0
PRODID:
BEGIN:VEVENT
UID:139012mb
DTSTAMP:20260419T132017Z
DTSTART:20260512T150000Z
DTEND:20260512T160000Z
SUMMARY: The Art of Accountability: Effective Strategies for Tough Conversations
DESCRIPTION: The Art of Accountability is a dynamic training session tailored for leaders seeking to cultivate a culture of accountability while fostering respect and trust within their teams. High morale is intrinsically linked to high accountability in todays fast-paced work environment\n 
CLASS:PUBLIC
END:VEVENT
END:VCALENDAR
