BEGIN:VCALENDAR
VERSION:2.0
PRODID:
BEGIN:VEVENT
UID:139181mb
DTSTAMP:20260419T161259Z
DTSTART:20260515T170000Z
DTEND:20260515T203900Z
SUMMARY: All About Fraud: Examples\, Prevention & Auditing
DESCRIPTION: Fraud is constantly in the news. Whether it's employee retention credit mills\, FTX\, or the City of Dixon\, it appears that fraud is everywhere. We'll start this session with a review of the common fraud schemes as identified in the 2024 Report to the Nations. We'll also review the commonalities of fraudsters. We'll then look at methods of prevention. We'll close with a look at the auditor's responsibility for the consideration of fraud in AU-C 240\n 
CLASS:PUBLIC
END:VEVENT
END:VCALENDAR
