BEGIN:VCALENDAR
VERSION:2.0
PRODID:
BEGIN:VEVENT
UID:139325mb
DTSTAMP:20260420T113135Z
DTSTART:20260616T140000Z
DTEND:20260616T150400Z
SUMMARY: Top Employment Tools to Protect Your Business & Recommend to Business Clients
DESCRIPTION: Overview of the most important labor and employment policies and practices that every business should have. The review will go over confidentiality agreements\, arbitration agreements\, restrictive covenants\, training and severance agreements\, as well as compliance issues related to each of them\n 
CLASS:PUBLIC
END:VEVENT
END:VCALENDAR
