BEGIN:VCALENDAR
VERSION:2.0
PRODID:
BEGIN:VEVENT
UID:139342mb
DTSTAMP:20260420T113138Z
DTSTART:20260616T160000Z
DTEND:20260616T170600Z
SUMMARY: Are Those Independent Contractors Really Independent Contractors?
DESCRIPTION: Various legal tests are used to evaluate whether a worker should be classified as an employee or an independent contractor. There is no uniform standard or bright-line rule for determining whether an individual is properly classified as an independent contractor. Instead\, the inquiry is always fact-intensive and the analysis can vary based what body is performing it\, i.e. the Internal Revenue Service ("IRS")\, Department of Labor ("DOL")\, various state agencies\, or the courts. This presentation will review the various tests and highlight some of the common\, most important factors for consideration\n 
CLASS:PUBLIC
END:VEVENT
END:VCALENDAR
