BEGIN:VCALENDAR
VERSION:2.0
PRODID:
BEGIN:VEVENT
UID:139378mb
DTSTAMP:20260419T224637Z
DTSTART:20260522T180000Z
DTEND:20260522T190700Z
SUMMARY: Navigating Leaves of Absence
DESCRIPTION: What obligations does an employer have when an employee needs to take a leave of absence? This presentation will provide an overview of the complicated\, intertwined compliance obligations triggered when an employee requests a medical leave of absence (including for pregnancy\, mental health\, or addiction)\n 
CLASS:PUBLIC
END:VEVENT
END:VCALENDAR
