BEGIN:VCALENDAR
VERSION:2.0
PRODID:
BEGIN:VEVENT
UID:139443mb
DTSTAMP:20260420T142507Z
DTSTART:20260620T140000Z
DTEND:20260620T154800Z
SUMMARY: When Leadership Fails
DESCRIPTION: When the leadership in any organizations carries out their responsibilities of establishing\, maintaining and monitoring internal controls\, it significantly reduces the possibility of fraud occurring. When and if it does occur\, a good system of internal controls will often detect it early on. 

This presentation is an illustration of what can happen when top management fails to carry out their responsibility of protecting an entity's assets through a good system of internal controls\n 
CLASS:PUBLIC
END:VEVENT
END:VCALENDAR
