BEGIN:VCALENDAR
VERSION:2.0
PRODID:
BEGIN:VEVENT
UID:139543mb
DTSTAMP:20260420T083155Z
DTSTART:20260612T170000Z
DTEND:20260612T185100Z
SUMMARY: Preparation\, Compilation & Review Engagements
DESCRIPTION: This course is an introduction to preparation\, compilation\, & review engagements. During this course\, we will compare and contrast these different engagements by reviewing the procedures that should be performed\, different reports\, as well as the level of assurance specific to each type of engagement\n 
CLASS:PUBLIC
END:VEVENT
END:VCALENDAR
