BEGIN:VCALENDAR
VERSION:2.0
PRODID:
BEGIN:VEVENT
UID:139667mb
DTSTAMP:20260419T224740Z
DTSTART:20260522T170000Z
DTEND:20260522T181100Z
SUMMARY: Preparing to be a Forensic Accountant: Focus on Computer Forensics: Part I
DESCRIPTION: This course is a continuation of our series on preparing to become a forensic accountant. Within this segment we focus on elements of computer forensics. This session is designed to delve into further investigative procedures used in computer forensics\n 
CLASS:PUBLIC
END:VEVENT
END:VCALENDAR
