BEGIN:VCALENDAR
VERSION:2.0
PRODID:
BEGIN:VEVENT
UID:140118mb
DTSTAMP:20260420T064349Z
DTSTART:20260606T170000Z
DTEND:20260606T181700Z
SUMMARY: Preparing to be a Forensic Accountant: Cloud Forensics
DESCRIPTION: Cloud computing has become a source of cyber-crime. "Cloud forensics is the application of digital forensics in cloud computing as a subset of network forensics to gather and preserve evidence in a way that is suitable for presentation in a court of law." Cloud forensics is a combination of the varied types of accounting forensics including:

&bull\;    Digital forensics
&bull\;    Network forensics.
&bull\;    Hardware forensics

In cloud crime\, the cloud is considered the object when the target of the crime is the cloud service provider they are directly affected by the act. It is considered the subject of the crime when the criminal act is committed within the cloud environment. It is considered the tool when it is used to plan or conduct a crime. This course will delve into the many concepts involved in cloud forensics. The course complements other courses in the series of Becoming a Forensic Accountant\n 
CLASS:PUBLIC
END:VEVENT
END:VCALENDAR
