BEGIN:VCALENDAR
VERSION:2.0
PRODID:
BEGIN:VEVENT
UID:140353mb
DTSTAMP:20260420T034517Z
DTSTART:20260601T170000Z
DTEND:20260601T180500Z
SUMMARY: Securing Executive Buy-In for Your Initiatives: Communication Techniques to Persuade Decision-Makers
DESCRIPTION: For HR and Business professionals\, navigating the intricate dynamics of executive decision-making can often be a daunting task. Despite the meticulous hours invested in research\, strategy formulation and planning\, the true challenge often lies in effectively communicating and gaining acceptance for these transformative ideas. A key aspect of this is the art of persuasion\, ensuring that the merits of our proposals are not just understood but wholeheartedly embraced by decision-makers. This session is designed to empower leaders with the tools and insights needed to craft persuasive pitches\, build a robust business case and confidently communicate the ROI of their initiatives. Moreover\, attendees will gain insights into the common pitfalls that can hinder their pitches and learn techniques to address objections frequently raised by executive leadership\n 
CLASS:PUBLIC
END:VEVENT
END:VCALENDAR
