BEGIN:VCALENDAR
VERSION:2.0
PRODID:
BEGIN:VEVENT
UID:140435mb
DTSTAMP:20260419T193641Z
DTSTART:20260520T150000Z
DTEND:20260520T170000Z
SUMMARY: Cost & Pricing Models: Boost Your Bottom Line
DESCRIPTION: If sales increase\, so should profits. Yet\, the opposite result often leaves executive's scratching their heads. When organizations work with inferior cost information\, they make mistakes in four specific situations. Bad information causes sellers to overprice easy\, high-volume work and under-price difficult\, low-volume work. 

This session discusses how to use activity-based costing to build accurate costing models that consider far more than just the labor and materials necessary to provide goods and services\n 
CLASS:PUBLIC
END:VEVENT
END:VCALENDAR
