BEGIN:VCALENDAR
VERSION:2.0
PRODID:
BEGIN:VEVENT
UID:140457mb
DTSTAMP:20260419T180510Z
DTSTART:20260518T180000Z
DTEND:20260518T200000Z
SUMMARY: Critical Thinking Skills: Prevent Mistakes Now
DESCRIPTION: What were they thinking?  Why do some people make horrible decisions that severely damage themselves and their organizations?  It is tempting to assume that a poor choice must be due to a leader's incompetence\, inexperience\, bad character\, or low intelligence: but such easily attributed factors generally aren't the true cause when leaders blunder. In such situations\, many turn to finance and accounting professionals for evaluation\, answers\, remedies and solutions for improved decision-making\n 
CLASS:PUBLIC
END:VEVENT
END:VCALENDAR
