BEGIN:VCALENDAR
VERSION:2.0
PRODID:
BEGIN:VEVENT
UID:140498mb
DTSTAMP:20260420T155255Z
DTSTART:20260623T160000Z
DTEND:20260623T200000Z
SUMMARY: Corporate Ethics Cases: Discuss Real Life Conflicts
DESCRIPTION: If you have ever had someone just read you the rules in an ethics class\, you know there is a better way. Cases in Corporate Ethics reviews 8 real life cases and puts you in the position of someone in the middle of it all. You'll learn about conflicts that corporate financial professionals often encounter\, you'll gain skills for dealing with a boss who is behaving badly and find out where to go for help.

Once you have studied ethics using real world cases\, you'll never want to do it any other way\n Note: This course qualifies to count toward the WICPA membership Ethics CPE requirement\n 
CLASS:PUBLIC
END:VEVENT
END:VCALENDAR
