BEGIN:VCALENDAR
VERSION:2.0
PRODID:
BEGIN:VEVENT
UID:140528mb
DTSTAMP:20260419T181538Z
DTSTART:20260519T140000Z
DTEND:20260519T154800Z
SUMMARY: The New Quality Management Standards: What Everyone Needs to Know
DESCRIPTION: The AICPA issued the new Quality Management Standards as a part of its overall quality improvement initiative. This course will highlight the foundational principles within the new approach that everyone in the CPA firm should know\n 
CLASS:PUBLIC
END:VEVENT
END:VCALENDAR
