BEGIN:VCALENDAR
VERSION:2.0
PRODID:
BEGIN:VEVENT
UID:140557mb
DTSTAMP:20260420T051921Z
DTSTART:20260603T180000Z
DTEND:20260603T194600Z
SUMMARY: Leveraging Analytical Procedures to the Fullest on Audits: Case Studies in Strengthening Audit Evidence
DESCRIPTION: Peer review deficiencies commonly relate to the design\, documentation and evaluation of the results of analytical procedures. This course will provide examples of how to strengthen evidence resulting from preliminary\, substantive and final analytics. It will reinforce the elements of strong analytical procedures that may enhance the quality of audits\n 
CLASS:PUBLIC
END:VEVENT
END:VCALENDAR
