BEGIN:VCALENDAR
VERSION:2.0
PRODID:
BEGIN:VEVENT
UID:140579mb
DTSTAMP:20260420T021029Z
DTSTART:20260528T180000Z
DTEND:20260528T213700Z
SUMMARY: Preparing & Reviewing Workpapers for Higher Quality Audits
DESCRIPTION: This course will focus on preparing financial statement audit documentation critical for high quality audits that can pass peer review\n 
CLASS:PUBLIC
END:VEVENT
END:VCALENDAR
