BEGIN:VCALENDAR
VERSION:2.0
PRODID:
BEGIN:VEVENT
UID:140596mb
DTSTAMP:20260419T131812Z
DTSTART:20260512T170000Z
DTEND:20260512T184600Z
SUMMARY: Applying the New Expected Credit Loss Model
DESCRIPTION: All entities are subject to the new expected credit loss model established by recent GAAP. This course will provide highlights of the latest requirements for measurement\, presentation and disclosure\n 
CLASS:PUBLIC
END:VEVENT
END:VCALENDAR
