BEGIN:VCALENDAR
VERSION:2.0
PRODID:
BEGIN:VEVENT
UID:140625mb
DTSTAMP:20260421T222718Z
DTSTART:20260609T170000Z
DTEND:20260609T184700Z
SUMMARY: Thinking Like an Auditor When Preparing Your Financial Statements
DESCRIPTION: External auditors understand concepts like materiality\, reasonableness and risk of material misstatement. This course will explain how to think like an auditor when preparing and fairly presenting your financial statements and related disclosures\n 
CLASS:PUBLIC
END:VEVENT
END:VCALENDAR
