BEGIN:VCALENDAR
VERSION:2.0
PRODID:
BEGIN:VEVENT
UID:140633mb
DTSTAMP:20260421T223446Z
DTSTART:20260609T160000Z
DTEND:20260609T233700Z
SUMMARY: Audit & Attest Quality Matters that Should be on Your Radar: Avoiding Common Deficiencies in SAS\, SSARS & SSAE Engagements
DESCRIPTION: Quality management is important. Every CPA firm that provides audit and other attest services must undergo a third-party quality control review. This session will provide you with the tips on how to avoid common quality control deficiencies in all services that are subject to peer review\n 
CLASS:PUBLIC
END:VEVENT
END:VCALENDAR
