BEGIN:VCALENDAR
VERSION:2.0
PRODID:
BEGIN:VEVENT
UID:140636mb
DTSTAMP:20260420T051707Z
DTSTART:20260604T160000Z
DTEND:20260604T233400Z
SUMMARY: How to Get a Better Return on Financial Statement Audits: Avoiding the Most Misapplied Risk-Based Audit Concepts
DESCRIPTION: By far\, the biggest contributing factor that leads to a profitable\, yet high quality\, financial statement audit is the proper identification\, evaluation and response to assessed risk of material misstatement. When designing your detailed audit plan\, how and where you decide to spend your time is largely a matter of professional judgment. The proven tips and techniques for critically rethinking how you plan and design your audit taught in this course will help auditors enhance audit quality and manage profitability in all engagements\n 
CLASS:PUBLIC
END:VEVENT
END:VCALENDAR
