BEGIN:VCALENDAR
VERSION:2.0
PRODID:
BEGIN:VEVENT
UID:140637mb
DTSTAMP:20260420T034306Z
DTSTART:20260602T160000Z
DTEND:20260602T234000Z
SUMMARY: Preparing & Reviewing Workpapers: Essential Tips for Avoiding Deficient Audit & Other Attest Engagements
DESCRIPTION: Workpapers are the primary support for findings\, conclusions and opinions on any audit or other attest engagement. This course will provide the essential tips and techniques for ensuring workpaper documentation is of a high quality\, yet efficient\, nature\n 
CLASS:PUBLIC
END:VEVENT
END:VCALENDAR
