BEGIN:VCALENDAR
VERSION:2.0
PRODID:
BEGIN:VEVENT
UID:140680mb
DTSTAMP:20260420T205852Z
DTSTART:20260629T160000Z
DTEND:20260629T171500Z
SUMMARY: Providing Ethical Leadership: Learning to be the Best Version of Yourself
DESCRIPTION: This course will examine certain qualities a leader must exhibit to set an ethical tone from the top\n 
CLASS:PUBLIC
END:VEVENT
END:VCALENDAR
