BEGIN:VCALENDAR
VERSION:2.0
PRODID:
BEGIN:VEVENT
UID:140734mb
DTSTAMP:20260419T211218Z
DTSTART:20260521T170000Z
DTEND:20260521T185900Z
SUMMARY: Like-Kind Exchanges
DESCRIPTION: Please join us for a discussion on like-kind exchanges (LKE)\, known as one of the last great tax legal "shelters" available to those buying and selling real property. We will be covering the basic structure of a LKE and ways a taxpayer can utilize qualified third party intermediaries (QI)\, tenancy-in-common structures including Delaware Statutory Trusts (DST). We will also explore creative solutions to sticky situations a taxpayer may find itself in obtaining replacement property.

**Please Note:  If you need credit reported to the IRS for this IRS approved program\, please download the IRS CE request form on the Course Materials Tab and submit to kori.herrera@acpen.com\n  
CLASS:PUBLIC
END:VEVENT
END:VCALENDAR
