BEGIN:VCALENDAR
VERSION:2.0
PRODID:
BEGIN:VEVENT
UID:140776mb
DTSTAMP:20260420T035337Z
DTSTART:20260602T140000Z
DTEND:20260602T161700Z
SUMMARY: Taxation of Business Entities
DESCRIPTION: This course will introduce you the different types of business entities and the tax implications of contributions\, distributions and earnings\, among other topics.

**Please Note:  If you need credit reported to the IRS for this IRS approved program\, please download the IRS CE request form on the Course Materials Tab and submit to kori.herrera@acpen.com\n  
CLASS:PUBLIC
END:VEVENT
END:VCALENDAR
