BEGIN:VCALENDAR
VERSION:2.0
PRODID:
BEGIN:VEVENT
UID:140852mb
DTSTAMP:20260419T193810Z
DTSTART:20260520T130000Z
DTEND:20260520T150000Z
SUMMARY: CPAs & Addictions: Finding Hope & Healing
DESCRIPTION: Substance abuse and mental health issues among CPAs has become of great concern among many state boards and the AICPA in recent years. This program will cover the factors that push CPAs to unhealthy behaviors\, the prevalence of drug and alcohol abuse and possible options in addressing the situation. We will also discuss steps that friends and family can take to support their struggling CPA find hope and healing\n Note: This course qualifies to count toward the WICPA membership Ethics CPE requirement\n 
CLASS:PUBLIC
END:VEVENT
END:VCALENDAR
