BEGIN:VCALENDAR
VERSION:2.0
PRODID:
BEGIN:VEVENT
UID:140858mb
DTSTAMP:20260419T181527Z
DTSTART:20260518T180000Z
DTEND:20260518T185600Z
SUMMARY: The SECURE Act 2.0: Planning Opportunities for Employers
DESCRIPTION: The Secure Act 2.0 was passed in a flurry of year-end legislation. This one hour program will cover the important changes that employers need to know about company retirement plans. Employers will also need to consider how Secure Act 2.0 will the administration of existing plans or the creation of new ones. This course will provide a concise look at these hot topics. 

 **Please Note:  If you need credit reported to the IRS for this IRS approved program\, please download the IRS CE request form on the Course Materials Tab and submit to kori.herrera@acpen.com\n 
CLASS:PUBLIC
END:VEVENT
END:VCALENDAR
