BEGIN:VCALENDAR
VERSION:2.0
PRODID:
BEGIN:VEVENT
UID:140898mb
DTSTAMP:20260419T180551Z
DTSTART:20260518T160000Z
DTEND:20260518T175500Z
SUMMARY: The ABCs of Advisory Services
DESCRIPTION: Over the next decade\, the area of "Advisory Services" has the greatest potential for growth in your practice. Complexities within your clients' financial\, estate and asset protection plans coupled with the ever-changing Internal Revenue Code has created an opportunity for the CPA\, the EA and other advisors to expand their client offerings. This course provides the practitioner with the framework for practice expansion as well as an understanding of a variety of necessary issues and techniques\n 
CLASS:PUBLIC
END:VEVENT
END:VCALENDAR
