BEGIN:VCALENDAR
VERSION:2.0
PRODID:
BEGIN:VEVENT
UID:141100mb
DTSTAMP:20260419T175543Z
DTSTART:20260518T160000Z
DTEND:20260518T165800Z
SUMMARY: Interviewing\, Onboarding & Training 101
DESCRIPTION: Master the essential skills to build a high-performing team with our online course on interviewing\, onboarding and training. This comprehensive program dives into proven best practices for identifying top talent\, creating a seamless onboarding experience and fostering a culture of continuous development. Whether you're a seasoned manager or new to hiring\, this course equips you with the tools to make confident decisions\, engage new hires effectively and set your team up for success from day one\n 
CLASS:PUBLIC
END:VEVENT
END:VCALENDAR
