BEGIN:VCALENDAR
VERSION:2.0
PRODID:
BEGIN:VEVENT
UID:141124mb
DTSTAMP:20260420T100429Z
DTSTART:20260421T180000Z
DTEND:20260421T194800Z
SUMMARY: AICPA Regulatory Ethics Update 2025
DESCRIPTION: Stay ahead of the curve with this VBOA-approved ethics course designed to meet Virginia's ethics requirements while keeping you informed on the latest developments at the AICPA. The Professional Ethics Executive Committee (PEEC) has been active recently\, issuing new guidance and updating existing rules. In this session\, we'll explore the most impactful changes\, including updates on fees\, recruiting\, CPE and NOCLAR (noncompliance with laws and regulations). CPAs in both industry and public accounting will gain the insights needed to stay compliant in an evolving regulatory environment. We'll also provide a sneak peek at key projects PEEC is expected to finalize soon\, ensuring you're prepared for what's next\n Note: This course qualifies to count toward the WICPA membership Ethics CPE requirement\n 
CLASS:PUBLIC
END:VEVENT
END:VCALENDAR
