BEGIN:VCALENDAR
VERSION:2.0
PRODID:
BEGIN:VEVENT
UID:141756mb
DTSTAMP:20260420T100059Z
DTSTART:20260421T170000Z
DTEND:20260421T190000Z
SUMMARY: Section 199A Rules & Forms Reporting
DESCRIPTION: This program addresses the Section 199A deduction for flow-through entity income\, including a review of the major provisions\, forms reporting and recent developments.

*Please Note:  If you need credit reported to the IRS for this IRS approved program\, please download the IRS CE request form on the Course Materials Tab and submit to kori.herrera@acpen.com\n  
CLASS:PUBLIC
END:VEVENT
END:VCALENDAR
