BEGIN:VCALENDAR
VERSION:2.0
PRODID:
BEGIN:VEVENT
UID:141955mb
DTSTAMP:20260419T212414Z
DTSTART:20260521T150000Z
DTEND:20260521T184100Z
SUMMARY: Spring Tax Update for Individuals With Steve Dilley
DESCRIPTION: This program provides an update to the latest tax developments\, rules and regulations impacting and individual taxpayers\, with a review and integration of 2024/25 legislation. 

*Please Note:  If you need credit reported to the IRS for this IRS approved program\, please download the IRS CE request form on the Course Materials Tab and submit to kori.herrera@acpen.com\n  
CLASS:PUBLIC
END:VEVENT
END:VCALENDAR
