BEGIN:VCALENDAR
VERSION:2.0
PRODID:
BEGIN:VEVENT
UID:141972mb
DTSTAMP:20260419T212413Z
DTSTART:20260521T220000Z
DTEND:20260522T014200Z
SUMMARY: Spring Tax Update for Business With Steve Dilley
DESCRIPTION: This program provides an update to the latest tax developments\, rules and regulations impacting and business taxpayers\, with a review and integration of 2024/25 legislation. 

*Please Note:  If you need credit reported to the IRS for this IRS approved program\, please download the IRS CE request form on the Course Materials Tab and submit to kori.herrera@acpen.com\n  
CLASS:PUBLIC
END:VEVENT
END:VCALENDAR
