BEGIN:VCALENDAR
VERSION:2.0
PRODID:
BEGIN:VEVENT
UID:142057mb
DTSTAMP:20260420T033504Z
DTSTART:20260601T140000Z
DTEND:20260601T154700Z
SUMMARY: Accounting & Reporting Long-Term Debt
DESCRIPTION: Debt is typically a critical component of the financial statements\, impacting the economic decisions of financial statement users. This course will address common issues that may impact the proper presentation and disclosure of debt\, including debt covenant compliance and other issues that impact classification of the liability between current vs. noncurrent\n 
CLASS:PUBLIC
END:VEVENT
END:VCALENDAR
