BEGIN:VCALENDAR
VERSION:2.0
PRODID:
BEGIN:VEVENT
UID:142086mb
DTSTAMP:20260420T034518Z
DTSTART:20260601T180000Z
DTEND:20260601T194800Z
SUMMARY: Private Company Simplified GAAP Alternatives
DESCRIPTION: The FASB formed the Private Company Council to provide certain alternatives in U.S. GAAP that are only available to nonpublic business entities\, with limited exceptions for certain nonprofits. This course will provide insight into when adopting the accounting and financial reporting alternatives would be to the advantage of private companies\n 
CLASS:PUBLIC
END:VEVENT
END:VCALENDAR
