BEGIN:VCALENDAR
VERSION:2.0
PRODID:
BEGIN:VEVENT
UID:142098mb
DTSTAMP:20260420T034400Z
DTSTART:20260530T180000Z
DTEND:20260530T194900Z
SUMMARY: Leases Accounting under Topic 842: Answers to FAQ After Implementation
DESCRIPTION: Lease accounting under FASB ASC 842 is now fully effective for all entities. Transitioning to new GAAP always leads to implementation issues and concerns. This course will answer the most common questions asked related to the latest lease accounting and financial reporting requirements after adoption and transition\n 
CLASS:PUBLIC
END:VEVENT
END:VCALENDAR
