BEGIN:VCALENDAR
VERSION:2.0
PRODID:
BEGIN:VEVENT
UID:142112mb
DTSTAMP:20260420T205851Z
DTSTART:20260629T180000Z
DTEND:20260629T194700Z
SUMMARY: Revenue Recognition in an Environment of Uncertainty
DESCRIPTION: Applying Topic 606 in an environment of uncertainty can be especially challenging. This course will discuss the proper application of the revenue recognition model when facts and circumstances are changing\n 
CLASS:PUBLIC
END:VEVENT
END:VCALENDAR
