BEGIN:VCALENDAR
VERSION:2.0
PRODID:
BEGIN:VEVENT
UID:142128mb
DTSTAMP:20260419T230535Z
DTSTART:20260523T140000Z
DTEND:20260523T154900Z
SUMMARY: Businesses Receiving Government Assistance
DESCRIPTION: Many for-profit entities receive government assistance or are required to have financial statement or compliance audits due to law or regulation. This course will discuss the requirements under Generally Accepted Auditing Standards relevant to for-profit entity audits\n 
CLASS:PUBLIC
END:VEVENT
END:VCALENDAR
