BEGIN:VCALENDAR
VERSION:2.0
PRODID:
BEGIN:VEVENT
UID:142129mb
DTSTAMP:20260420T051921Z
DTSTART:20260603T160000Z
DTEND:20260603T174900Z
SUMMARY: Businesses Receiving Government Assistance
DESCRIPTION: Many for-profit entities receive government assistance or are required to have financial statement or compliance audits due to law or regulation. This course will discuss the requirements under Generally Accepted Auditing Standards relevant to for-profit entity audits\n 
CLASS:PUBLIC
END:VEVENT
END:VCALENDAR
