BEGIN:VCALENDAR
VERSION:2.0
PRODID:
BEGIN:VEVENT
UID:142142mb
DTSTAMP:20260419T224632Z
DTSTART:20260523T160000Z
DTEND:20260523T174700Z
SUMMARY: Analytical Procedures for Nonprofits
DESCRIPTION: Strong analytical procedures are critical for evaluating the fair presentation of financial statements. In addition\, Financial statements are only as good as the information and trends that they produce for operational\, strategic\, or compliance purposes. This course will provide insights into how to determine the strength and efficiency of nonprofits in achieving objectives and knowledge to improve the analysis of the fair presentation of a nonprofit's financial statements\n 
CLASS:PUBLIC
END:VEVENT
END:VCALENDAR
