BEGIN:VCALENDAR
VERSION:2.0
PRODID:
BEGIN:VEVENT
UID:142155mb
DTSTAMP:20260420T033541Z
DTSTART:20260601T130000Z
DTEND:20260601T163600Z
SUMMARY: Nonprofit Internal Control: Practical Insights into Mitigating Financial Reporting\, Compliance & Other Risks
DESCRIPTION: There is simply no denying that a sufficiently designed and effectively operating system of internal controls over reliable financial reporting is more important than ever. The primary objective of this course is to give participants "hands-on" practice in designing\, evaluating and communicating conclusions related to design and operating effectiveness of internal controls over reliable financial reporting and other risks for nonprofit environments\n 
CLASS:PUBLIC
END:VEVENT
END:VCALENDAR
