BEGIN:VCALENDAR
VERSION:2.0
PRODID:
BEGIN:VEVENT
UID:142178mb
DTSTAMP:20260420T113001Z
DTSTART:20260616T140000Z
DTEND:20260616T154800Z
SUMMARY: Sampling: Avoiding Common Mistakes on Financial Statement & Compliance Audits
DESCRIPTION: Sampling is an important method for determining the extent of testing controls\, testing compliance and tests of substantive details. It allows the auditor to apply procedures to less than 100% of the population yet extend results to project likely conclusions about the entire population. This module will describe the proper process for both attribute testing and variable sampling in financial statement and compliance audits\n 
CLASS:PUBLIC
END:VEVENT
END:VCALENDAR
