BEGIN:VCALENDAR
VERSION:2.0
PRODID:
BEGIN:VEVENT
UID:142207mb
DTSTAMP:20260420T155306Z
DTSTART:20260623T200000Z
DTEND:20260623T215000Z
SUMMARY: Current Fraud Trends: Nonprofit & Government Entities
DESCRIPTION: Nonprofit entities and governmental entities have a high degree of public accountability. This course will examine the most common fraud schemes and provide multiple examples of how to prevent or detect these schemes\n 
CLASS:PUBLIC
END:VEVENT
END:VCALENDAR
