BEGIN:VCALENDAR
VERSION:2.0
PRODID:
BEGIN:VEVENT
UID:142278mb
DTSTAMP:20260420T100600Z
DTSTART:20260420T200000Z
DTEND:20260420T220000Z
SUMMARY: S Corporation Essentials: Stock & Loan Basis Reporting
DESCRIPTION: This program addresses the critical issues and special opportunities facing S-corporations\, with a focus on reporting shareholder basis and distributions. 

**Please Note:  If you need credit reported to the IRS for this IRS approved program\, please download the IRS CE request form on the Course Materials Tab and submit to kori.herrera@acpen.com\n 
CLASS:PUBLIC
END:VEVENT
END:VCALENDAR
