BEGIN:VCALENDAR
VERSION:2.0
PRODID:
BEGIN:VEVENT
UID:142652mb
DTSTAMP:20260421T223701Z
DTSTART:20260609T170000Z
DTEND:20260609T203700Z
SUMMARY: Avoiding Legal Liability & Peer Review Deficiencies in Nonaudit Services\, Including Bookkeeping & Preparing Financial Statements
DESCRIPTION: The majority of peer review deficiencies and malpractice claims result from nonaudit services. This course will provide best practices for avoiding legal liability and quality control concerns\n 
CLASS:PUBLIC
END:VEVENT
END:VCALENDAR
