BEGIN:VCALENDAR
VERSION:2.0
PRODID:
BEGIN:VEVENT
UID:142653mb
DTSTAMP:20260420T113136Z
DTSTART:20260617T130000Z
DTEND:20260617T163700Z
SUMMARY: Avoiding Legal Liability & Peer Review Deficiencies in Nonaudit Services\, Including Bookkeeping & Preparing Financial Statements
DESCRIPTION: The majority of peer review deficiencies and malpractice claims result from nonaudit services. This course will provide best practices for avoiding legal liability and quality control concerns\n 
CLASS:PUBLIC
END:VEVENT
END:VCALENDAR
